BEGIN:VCALENDAR
VERSION:2.0
PRODID:-//The Galway Astronomy Club - ECPv6.15.20//NONSGML v1.0//EN
CALSCALE:GREGORIAN
METHOD:PUBLISH
X-ORIGINAL-URL:https://www.galwayastronomyclub.ie
X-WR-CALDESC:Events for The Galway Astronomy Club
REFRESH-INTERVAL;VALUE=DURATION:PT1H
X-Robots-Tag:noindex
X-PUBLISHED-TTL:PT1H
BEGIN:VTIMEZONE
TZID:UTC
BEGIN:STANDARD
TZOFFSETFROM:+0000
TZOFFSETTO:+0000
TZNAME:UTC
DTSTART:20250101T000000
END:STANDARD
END:VTIMEZONE
BEGIN:VEVENT
DTSTART;TZID=UTC:20260511T193000
DTEND;TZID=UTC:20260511T213000
DTSTAMP:20260424T084054
CREATED:20260412T162232Z
LAST-MODIFIED:20260412T162322Z
UID:3389-1778527800-1778535000@www.galwayastronomyclub.ie
SUMMARY:GAC May Meeting with Georgia MacMillan(Mayo Dark Skies) + AGM
DESCRIPTION:Details to follow:
URL:https://www.galwayastronomyclub.ie/event/gac-may-meeting-with-georgia-macmillanmayo-dark-skies-protecting-our-dark-skies-agm/
LOCATION:Ardilaun Hotel\, Taylors Hill\, Galway\, H91 H29F
END:VEVENT
END:VCALENDAR